BEGIN:VCALENDAR
VERSION:2.0
PRODID:-//Voorzet - ECPv6.15.20//NONSGML v1.0//EN
CALSCALE:GREGORIAN
METHOD:PUBLISH
X-ORIGINAL-URL:https://www.voorzet.nl
X-WR-CALDESC:Evenementen voor Voorzet
REFRESH-INTERVAL;VALUE=DURATION:PT1H
X-Robots-Tag:noindex
X-PUBLISHED-TTL:PT1H
BEGIN:VTIMEZONE
TZID:Europe/Amsterdam
BEGIN:DAYLIGHT
TZOFFSETFROM:+0100
TZOFFSETTO:+0200
TZNAME:CEST
DTSTART:20240331T010000
END:DAYLIGHT
BEGIN:STANDARD
TZOFFSETFROM:+0200
TZOFFSETTO:+0100
TZNAME:CET
DTSTART:20241027T010000
END:STANDARD
BEGIN:DAYLIGHT
TZOFFSETFROM:+0100
TZOFFSETTO:+0200
TZNAME:CEST
DTSTART:20250330T010000
END:DAYLIGHT
BEGIN:STANDARD
TZOFFSETFROM:+0200
TZOFFSETTO:+0100
TZNAME:CET
DTSTART:20251026T010000
END:STANDARD
BEGIN:DAYLIGHT
TZOFFSETFROM:+0100
TZOFFSETTO:+0200
TZNAME:CEST
DTSTART:20260329T010000
END:DAYLIGHT
BEGIN:STANDARD
TZOFFSETFROM:+0200
TZOFFSETTO:+0100
TZNAME:CET
DTSTART:20261025T010000
END:STANDARD
BEGIN:DAYLIGHT
TZOFFSETFROM:+0100
TZOFFSETTO:+0200
TZNAME:CEST
DTSTART:20270328T010000
END:DAYLIGHT
BEGIN:STANDARD
TZOFFSETFROM:+0200
TZOFFSETTO:+0100
TZNAME:CET
DTSTART:20271031T010000
END:STANDARD
END:VTIMEZONE
BEGIN:VEVENT
DTSTART;TZID=Europe/Amsterdam:20250930T193000
DTEND;TZID=Europe/Amsterdam:20250930T210000
DTSTAMP:20260421T120126
CREATED:20250730T151015Z
LAST-MODIFIED:20250806T112440Z
UID:10001021-1759260600-1759266000@www.voorzet.nl
SUMMARY:Spellenavond Kantoor Leiderdorp
DESCRIPTION:Een spellenavond op kantoor Leiderdorp \nSplinterlaan 156\n2352 SM Leiderdorp \ntijden van 19.30 tot 21.00 uur met eventuele uitloop. \nJe betaalt voor de spellenavond €2.50 Dan halen we daar wat lekkers voor bij het spelen. \nVeel speelplezier!
URL:https://www.voorzet.nl/event/spellenavond-kantoor-leiderdorp-4/
LOCATION:Kantoor Leiderdorp\, Splinterlaan 156\, Leiderdorp\, 2352 SM\, Nederland
CATEGORIES:Stichting Vakantie en Vrije Tijd
ATTACH;FMTTYPE=image/jpeg:https://www.voorzet.nl/wp-content/uploads/Spellenfoto.jpg
ORGANIZER;CN="Voorzet":MAILTO:stichting@voorzet.nl
END:VEVENT
BEGIN:VEVENT
DTSTART;VALUE=DATE:20251007
DTEND;VALUE=DATE:20251008
DTSTAMP:20260421T120126
CREATED:20250922T090145Z
LAST-MODIFIED:20250922T090215Z
UID:10001023-1759795200-1759881599@www.voorzet.nl
SUMMARY:Mini Masterclass Autisme (Besloten)
DESCRIPTION:
URL:https://www.voorzet.nl/event/mini-masterclass-autisme-besloten/
LOCATION:Amsterdamse Buurtteam Academie\, Nederland
CATEGORIES:Begeleiding
ATTACH;FMTTYPE=image/jpeg:https://www.voorzet.nl/wp-content/uploads/Begeleiding135.jpg
ORGANIZER;CN="Voorzet":MAILTO:stichting@voorzet.nl
END:VEVENT
BEGIN:VEVENT
DTSTART;TZID=Europe/Amsterdam:20251009T200000
DTEND;TZID=Europe/Amsterdam:20251009T223000
DTSTAMP:20260421T120126
CREATED:20250604T070534Z
LAST-MODIFIED:20250604T070534Z
UID:10000998-1760040000-1760049000@www.voorzet.nl
SUMMARY:Bowlen Haarlem
DESCRIPTION:We bowlen elke eerste donderdag van de maand in Haarlem bij Bison Bowling \nBison Bowling Haarlem\nOrionweg 400\n2024TH Haarlem \nBowlen is van 20.00 tot 21.00 uur\, melden 19.45 uur \nWe doen gezellig een drankje tot 22.30 uur
URL:https://www.voorzet.nl/event/bowlen-haarlem-2/
LOCATION:Bison Bowling\, Orionweg 400\, Haarlem\, 2024TH\, Nederland
CATEGORIES:Stichting Vakantie en Vrije Tijd
ATTACH;FMTTYPE=image/jpeg:https://www.voorzet.nl/wp-content/uploads/Bison-Bowline.jpg
ORGANIZER;CN="Voorzet":MAILTO:stichting@voorzet.nl
END:VEVENT
BEGIN:VEVENT
DTSTART;TZID=Europe/Amsterdam:20251016T200000
DTEND;TZID=Europe/Amsterdam:20251016T223000
DTSTAMP:20260421T120126
CREATED:20250611T095556Z
LAST-MODIFIED:20250611T095556Z
UID:10001016-1760644800-1760653800@www.voorzet.nl
SUMMARY:Bowlen Leiden
DESCRIPTION:Elke maand (2e donderdag\, indien mogelijk\, van die maand) Bowlen in Leiden bij Menken Bowling. \nBowling Menken\nKenauweg 10\n2331 BB Leiden \nBowlen is van 20.00 tot 21.00 uur (19.45 uur melden) \nWe doen gezellig een drankje tot 22.30 uur
URL:https://www.voorzet.nl/event/bowlen-leiden-2/
LOCATION:Bowling Menken\, Kenauweg 10\, Leiden\, 2331 BB\, Nederland
CATEGORIES:Stichting Vakantie en Vrije Tijd
ATTACH;FMTTYPE=image/jpeg:https://www.voorzet.nl/wp-content/uploads/plaatje-menken.jpg
ORGANIZER;CN="Voorzet":MAILTO:stichting@voorzet.nl
END:VEVENT
BEGIN:VEVENT
DTSTART;TZID=Europe/Amsterdam:20251018T103000
DTEND;TZID=Europe/Amsterdam:20251018T133000
DTSTAMP:20260421T120126
CREATED:20250409T084755Z
LAST-MODIFIED:20250618T065454Z
UID:10000995-1760783400-1760794200@www.voorzet.nl
SUMMARY:Moodboard maken in de kop van Noord-Holland
DESCRIPTION:Zaterdag 21 juni kunnen we de moodboards maken. Op kantoor Heerhugowaard samen met Carla en Chantal van  10.30 tot 13.30 uur. \nKosten € 4\,00 voor de materialen (voor lijm\, papier\, tijdschriften\, stiften) en thee\, koffie en wat lekkers. \nPrettig wanneer mensen zelf een schaar meenemen en eventueel extra tijdschriften (en lunch) mensen kunnen zelf een broodje meenemen voor de lunch.
URL:https://www.voorzet.nl/event/moodboard-maken-in-de-kop-van-noord-holland/
LOCATION:Kantoor Heerhugowaard\, Stationsplein 99 Unit 238\, Heerhugowaard\, 1703 WE\, Nederland
CATEGORIES:Stichting Vakantie en Vrije Tijd
ATTACH;FMTTYPE=image/png:https://www.voorzet.nl/wp-content/uploads/Moodboard-plaatje.png
ORGANIZER;CN="Voorzet":MAILTO:stichting@voorzet.nl
END:VEVENT
BEGIN:VEVENT
DTSTART;TZID=Europe/Amsterdam:20251022T183000
DTEND;TZID=Europe/Amsterdam:20251022T203000
DTSTAMP:20260421T120126
CREATED:20250930T102804Z
LAST-MODIFIED:20251020T093429Z
UID:10001024-1761157800-1761165000@www.voorzet.nl
SUMMARY:Klok achteruit Bingo (online)
DESCRIPTION:De bingo is altijd online via teams en we bedenken altijd leuke prijzen. \nGeef je op door een ticket te kopen en de dag voor de bingo sturen we de kaarten en de inloglink.
URL:https://www.voorzet.nl/event/klok-achteruit-bingo-online/
LOCATION:Teams\, online
CATEGORIES:Stichting Vakantie en Vrije Tijd
ATTACH;FMTTYPE=image/png:https://www.voorzet.nl/wp-content/uploads/Bingopplaatje.png
ORGANIZER;CN="Voorzet":MAILTO:stichting@voorzet.nl
END:VEVENT
BEGIN:VEVENT
DTSTART;TZID=Europe/Amsterdam:20251026T130000
DTEND;TZID=Europe/Amsterdam:20251026T150000
DTSTAMP:20260421T120126
CREATED:20250129T100623Z
LAST-MODIFIED:20250129T100623Z
UID:10000968-1761483600-1761490800@www.voorzet.nl
SUMMARY:Boardroom Haarlem Maatjes project
DESCRIPTION:Spellenhuis / The Boardroom\nKruisweg 60\n2011 LE Haarlem\nTel: 023-5313188 \nDe spelletjesmiddag is van 13.00 tot 15.00 uur met een uitloop naar 16.00 uur. \nDeze dag is een maatjes project door onze collega Wietske van Ommen\, je meld je aan en ik geef aan haar door wie er komen.\nJe betaalt op locatie van de Boardroom. \n(Mobiel nr via de app\, geeft het snelst resultaat!) En idd ik betaal mijn eigen deelname voor boardroom\, ieder voor zich is mijn insteek wat betreft de kosten. ( €6\,- plus consumptie is dat bij boardroom)
URL:https://www.voorzet.nl/event/boardroom-haarlem-maatjes-project-3/
LOCATION:Boardroom\, Kruisweg 60\, Haarlem\, 2011LE\, Nederland
CATEGORIES:Stichting Vakantie en Vrije Tijd
ATTACH;FMTTYPE=image/png:https://www.voorzet.nl/wp-content/uploads/plaatje-Maatjes.png
ORGANIZER;CN="Voorzet":MAILTO:stichting@voorzet.nl
END:VEVENT
BEGIN:VEVENT
DTSTART;TZID=Europe/Amsterdam:20251029T200000
DTEND;TZID=Europe/Amsterdam:20251029T223000
DTSTAMP:20260421T120126
CREATED:20250604T071945Z
LAST-MODIFIED:20251028T102751Z
UID:10001003-1761768000-1761777000@www.voorzet.nl
SUMMARY:Bowlen Amsterdam
DESCRIPTION:Elke laatste woensdag van de maand Bowlen in Amsterdam bij Knijn. \nKom je voor het eerst vraag dan even waar de mensen van de stichting zijn. \nKnijn Bowling\nScheldeplein 3\n1078 GR Amsterdam \nBowlen is van 20.00 tot 21.00 uur (19.45 uur melden) \nWe doen gezellig een drankje tot 22.30 uur
URL:https://www.voorzet.nl/event/bowlen-amsterdam-2/
LOCATION:Amsterdam Knijn\, Scheldeplein 3\, Amsterdam\, 1078 GR\, Nederland
CATEGORIES:Stichting Vakantie en Vrije Tijd
ATTACH;FMTTYPE=image/jpeg:https://www.voorzet.nl/wp-content/uploads/Bowling-Knijn-1.jpg
ORGANIZER;CN="Voorzet":MAILTO:stichting@voorzet.nl
END:VEVENT
BEGIN:VEVENT
DTSTART;TZID=Europe/Amsterdam:20251106T200000
DTEND;TZID=Europe/Amsterdam:20251106T223000
DTSTAMP:20260421T120126
CREATED:20250604T070626Z
LAST-MODIFIED:20251020T094030Z
UID:10000999-1762459200-1762468200@www.voorzet.nl
SUMMARY:Bowlen Haarlem
DESCRIPTION:We bowlen elke eerste donderdag van de maand in Haarlem bij Bison Bowling \nBison Bowling Haarlem\nOrionweg 400\n2024TH Haarlem \nBowlen is van 20.00 tot 21.00 uur\, melden 19.45 uur \nWe doen gezellig een drankje tot 22.30 uur
URL:https://www.voorzet.nl/event/bowlen-haarlem-3/
LOCATION:Bison Bowling\, Orionweg 400\, Haarlem\, 2024TH\, Nederland
CATEGORIES:Stichting Vakantie en Vrije Tijd
ATTACH;FMTTYPE=image/jpeg:https://www.voorzet.nl/wp-content/uploads/Bison-Bowline.jpg
ORGANIZER;CN="Voorzet":MAILTO:stichting@voorzet.nl
END:VEVENT
BEGIN:VEVENT
DTSTART;TZID=Europe/Amsterdam:20251112T200000
DTEND;TZID=Europe/Amsterdam:20251112T223000
DTSTAMP:20260421T120126
CREATED:20250604T082609Z
LAST-MODIFIED:20250604T082609Z
UID:10001013-1762977600-1762986600@www.voorzet.nl
SUMMARY:Bowlen Zaandam
DESCRIPTION:We gaan weer gezellig bowlen. \nBowling Zaandam\nVrieschgroenstraat 3\n1503 MC\, Zaandam \nBowlen is van 20.00 tot 21.00 uur (19.45 melden) \nWe doen gezellig een drankje tot 22.30 uur
URL:https://www.voorzet.nl/event/bowlen-zaandam-2/
LOCATION:Bowling Zaandam\, Vrieschgroenstraat 3\, Zaandam\, 1503 MC\, Nederland
CATEGORIES:Stichting Vakantie en Vrije Tijd
ATTACH;FMTTYPE=image/jpeg:https://www.voorzet.nl/wp-content/uploads/Foto-zaandam-1.jpg
ORGANIZER;CN="Voorzet":MAILTO:stichting@voorzet.nl
END:VEVENT
BEGIN:VEVENT
DTSTART;TZID=Europe/Amsterdam:20251126T200000
DTEND;TZID=Europe/Amsterdam:20251126T223000
DTSTAMP:20260421T120126
CREATED:20250604T072038Z
LAST-MODIFIED:20250604T072038Z
UID:10001004-1764187200-1764196200@www.voorzet.nl
SUMMARY:Bowlen Amsterdam
DESCRIPTION:Elke laatste woensdag van de maand Bowlen in Amsterdam bij Knijn. \nKom je voor het eerst vraag dan even waar de mensen van de stichting zijn. \nKnijn Bowling\nScheldeplein 3\n1078 GR Amsterdam \nBowlen is van 20.00 tot 21.00 uur (19.45 uur melden) \nWe doen gezellig een drankje tot 22.30 uur
URL:https://www.voorzet.nl/event/bowlen-amsterdam-3/
LOCATION:Amsterdam Knijn\, Scheldeplein 3\, Amsterdam\, 1078 GR\, Nederland
CATEGORIES:Stichting Vakantie en Vrije Tijd
ATTACH;FMTTYPE=image/jpeg:https://www.voorzet.nl/wp-content/uploads/Bowling-Knijn-1.jpg
ORGANIZER;CN="Voorzet":MAILTO:stichting@voorzet.nl
END:VEVENT
BEGIN:VEVENT
DTSTART;TZID=Europe/Amsterdam:20251203T183000
DTEND;TZID=Europe/Amsterdam:20251203T203000
DTSTAMP:20260421T120126
CREATED:20250930T103453Z
LAST-MODIFIED:20251201T104443Z
UID:10001025-1764786600-1764793800@www.voorzet.nl
SUMMARY:SinterKerst Bingo (online)
DESCRIPTION:Wegens omstandigheden moeten wij de bingo verplaatsen naar woensdag 3 december. \nIs het niet mogelijk om hieraan deel te nemen. neem dan contact met ons op. \nHeb je nog geen ticket maar wil je graag deelnemen? Neem dan ook contact met ons op. \nstichting@voorzet.nl \nDe bingo is altijd online via teams en we bedenken altijd leuke prijzen. \nGeef je op door een ticket te kopen en de dag voor de bingo sturen we de kaarten en de inloglink. \nLeuke Sinterklaasbingo. \nDiverse prijzen als een surprise verstuurd 🙂 wat je binnen krijgt is een verrassing.
URL:https://www.voorzet.nl/event/sinterklaasbingo-online/
LOCATION:Teams\, online
CATEGORIES:Stichting Vakantie en Vrije Tijd
ATTACH;FMTTYPE=image/jpeg:https://www.voorzet.nl/wp-content/uploads/Sinterklaasbingo.jpg
ORGANIZER;CN="Voorzet":MAILTO:stichting@voorzet.nl
END:VEVENT
BEGIN:VEVENT
DTSTART;TZID=Europe/Amsterdam:20251204T200000
DTEND;TZID=Europe/Amsterdam:20251204T223000
DTSTAMP:20260421T120126
CREATED:20250604T070720Z
LAST-MODIFIED:20251203T090437Z
UID:10001000-1764878400-1764887400@www.voorzet.nl
SUMMARY:Bowlen Haarlem
DESCRIPTION:We bowlen elke eerste donderdag van de maand in Haarlem bij Bison Bowling \nBison Bowling Haarlem\nOrionweg 400\n2024TH Haarlem \nBowlen is van 20.00 tot 21.00 uur\, melden 19.45 uur \nWe doen gezellig een drankje tot 22.30 uur
URL:https://www.voorzet.nl/event/bowlen-haarlem-4/
LOCATION:Bison Bowling\, Orionweg 400\, Haarlem\, 2024TH\, Nederland
CATEGORIES:Stichting Vakantie en Vrije Tijd
ATTACH;FMTTYPE=image/jpeg:https://www.voorzet.nl/wp-content/uploads/Bison-Bowline.jpg
ORGANIZER;CN="Voorzet":MAILTO:stichting@voorzet.nl
END:VEVENT
BEGIN:VEVENT
DTSTART;TZID=Europe/Amsterdam:20251210T200000
DTEND;TZID=Europe/Amsterdam:20251210T223000
DTSTAMP:20260421T120126
CREATED:20250604T082658Z
LAST-MODIFIED:20250604T082658Z
UID:10001014-1765396800-1765405800@www.voorzet.nl
SUMMARY:Bowlen Zaandam
DESCRIPTION:We gaan weer gezellig bowlen. \nBowling Zaandam\nVrieschgroenstraat 3\n1503 MC\, Zaandam \nBowlen is van 20.00 tot 21.00 uur (19.45 melden) \nWe doen gezellig een drankje tot 22.30 uur
URL:https://www.voorzet.nl/event/bowlen-zaandam-3/
LOCATION:Bowling Zaandam\, Vrieschgroenstraat 3\, Zaandam\, 1503 MC\, Nederland
CATEGORIES:Stichting Vakantie en Vrije Tijd
ATTACH;FMTTYPE=image/jpeg:https://www.voorzet.nl/wp-content/uploads/Foto-zaandam-1.jpg
ORGANIZER;CN="Voorzet":MAILTO:stichting@voorzet.nl
END:VEVENT
BEGIN:VEVENT
DTSTART;TZID=Europe/Amsterdam:20251212T120000
DTEND;TZID=Europe/Amsterdam:20251212T140000
DTSTAMP:20260421T120126
CREATED:20251029T135340Z
LAST-MODIFIED:20251209T082330Z
UID:10001039-1765540800-1765548000@www.voorzet.nl
SUMMARY:Kerst High Tea bij De Mooiste Markt in Amsterdam
DESCRIPTION:We hebben dit jaar een andere locatie in Amsterdam waar we de Kerst High Tea gaan doen. \nBij de Mooiste Markt werken kanjers die iedere dag hun uiterste best doen om jou met een heerlijk brood\, mooi boeket of bijzonder cadeau EN een glimlach de winkel te doen verlaten. Dat zij soms een extra steuntje in de rug nodig hebben\, doet natuurlijk helemaal niets af aan hun inzet en enthousiasme. We zijn zo blij met en trots op onze talenten! \nBij De Mooiste Markt kun je terecht voor een heerlijk kopje koffie van Cafe del Mar \nLife isn’t always fair\, but your coffee can be! \nFair trade koffie\, sociaal en op ambachtelijke wijze verpakt \nDe koffiezakken worden gestickerd bij Stichting Spinger Uit op Scorlewald in Schoorl\, een instelling waar mensen met een beperking wonen en werken. Vol trots dragen zij hun steentje bij aan ons product. Op de achterkant van de koffiezak vind je altijd een foto en handtekening van degene die de zak heeft bestickerd.
URL:https://www.voorzet.nl/event/kerst-high-tea-bij-de-mooiste-markt-in-amsterdam/
LOCATION:De Mooiste Markt in Amsterdam\, Radarweg 476\, Amsterdam\, 1043 NV\, Nederland
CATEGORIES:Stichting Vakantie en Vrije Tijd
ATTACH;FMTTYPE=image/png:https://www.voorzet.nl/wp-content/uploads/20251029-Plaatje-de-Mooiste-Markt.png
ORGANIZER;CN="Voorzet":MAILTO:stichting@voorzet.nl
END:VEVENT
BEGIN:VEVENT
DTSTART;TZID=Europe/Amsterdam:20251212T120000
DTEND;TZID=Europe/Amsterdam:20251212T140000
DTSTAMP:20260421T120126
CREATED:20251203T091316Z
LAST-MODIFIED:20251203T091420Z
UID:10001040-1765540800-1765548000@www.voorzet.nl
SUMMARY:Kerst High Tea bij Wonder's in Schagen
DESCRIPTION:We serveren een etagère met de lekkerste gerechtjes\nom samen te delen\, zoals een soepje\, mini smoothie\,\ndiverse warme & koude\, hartige & zoete gerechtjes\nen verschillende smaken thee. \n 
URL:https://www.voorzet.nl/event/kerst-high-tea-bij-wonders-in-schagen/
LOCATION:Wonder’s Schagen\, Markt 17\, Schagen\, 1741 BS\, Nederland
CATEGORIES:Stichting Vakantie en Vrije Tijd
ATTACH;FMTTYPE=image/png:https://www.voorzet.nl/wp-content/uploads/Plaatje-Wonders.png
ORGANIZER;CN="Voorzet":MAILTO:stichting@voorzet.nl
END:VEVENT
BEGIN:VEVENT
DTSTART;TZID=Europe/Amsterdam:20251213T120000
DTEND;TZID=Europe/Amsterdam:20251213T140000
DTSTAMP:20260421T120126
CREATED:20251022T114552Z
LAST-MODIFIED:20251209T082242Z
UID:10001035-1765627200-1765634400@www.voorzet.nl
SUMMARY:Kerst High Tea bij het Beetje Bijzonder in Bussum
DESCRIPTION:2016 opende Lunchroom beetje bijzonder in het centrum van Bussum\nzijn deuren. Eerst onder de naam Brownies and Downies\, maar na een tijdje zijn we onder de eigen naam ‘Beetje Bijzonder’ verder gegaan. \nDe kosten voor een High Tea zijn € 24.75 p.p. \n 
URL:https://www.voorzet.nl/event/kerst-high-tea-bij-het-beetje-bijzonder-in-bussum/
LOCATION:Beetje Bijzonder Bussum\, Julianaplein 90\, Bussum\, 1404 DP
CATEGORIES:Stichting Vakantie en Vrije Tijd
ATTACH;FMTTYPE=image/png:https://www.voorzet.nl/wp-content/uploads/Beetje-Bijzonder-plaatje.png
ORGANIZER;CN="Voorzet":MAILTO:stichting@voorzet.nl
END:VEVENT
BEGIN:VEVENT
DTSTART;TZID=Europe/Amsterdam:20251213T120000
DTEND;TZID=Europe/Amsterdam:20251213T140000
DTSTAMP:20260421T120126
CREATED:20251022T114914Z
LAST-MODIFIED:20251203T124643Z
UID:10001033-1765627200-1765634400@www.voorzet.nl
SUMMARY:Kerst High Tea (lunch) Leiden bij Brownies & Downies
DESCRIPTION:Voor de Kerst alvast in de sfeer komen een Kerst High Tea\, en wel bij Brownies & Downies. \nwww.browniesanddowniesleiden.nl \nB&D heeft voor ons een speciale prijs gemaakt voor de High Tea; onbeperkt thee een soepje vooraf\, ronde met broodjes en een zoetig iets. \nKosten € 26.00 p.p. \n\nBrownies&downieS Leiden\nAalmarkt 11\, 2311 EC Leiden
URL:https://www.voorzet.nl/event/kerst-high-tea-lunch-leiden-bij-brownies-downies-2/
LOCATION:Brownies en Downies Leiden\, Aalmarkt 11\, Leiden\, 2311 EC\, Nederland
CATEGORIES:Stichting Vakantie en Vrije Tijd
ATTACH;FMTTYPE=image/jpeg:https://www.voorzet.nl/wp-content/uploads/Kerst-High-Tea-BD.jpg
ORGANIZER;CN="Voorzet":MAILTO:stichting@voorzet.nl
END:VEVENT
BEGIN:VEVENT
DTSTART;TZID=Europe/Amsterdam:20251213T120000
DTEND;TZID=Europe/Amsterdam:20251213T140000
DTSTAMP:20260421T120126
CREATED:20251029T122055Z
LAST-MODIFIED:20251112T112259Z
UID:10001031-1765627200-1765634400@www.voorzet.nl
SUMMARY:Kerst plankje (lunch) Hoorn bij Brownies & Downies
DESCRIPTION:Voor de Kerst alvast in de sfeer komen een Kerst High Tea\, en wel bij Brownies & Downies. \nwww.browniesanddownieshoorn.nl\nB&D heeft voor ons een speciale prijs gemaakt voor de lunch; \nDeze plank heeft o.a. een klein soepje\, vis/vlees om een broodje mee te beleggen\, een notenbroodje met brie uit de oven en een stukje zoet. \n\n\nBlauwe Berg 7A1625 NT\, Hoorn
URL:https://www.voorzet.nl/event/kerst-plankje-lunch-hoorn-bij-brownies-downies/
LOCATION:B&D Hoorn\, Blauwe Berg 7A\, Hoorn\, 1625 NT\, Nederland
CATEGORIES:Stichting Vakantie en Vrije Tijd
ATTACH;FMTTYPE=image/jpeg:https://www.voorzet.nl/wp-content/uploads/Kerst-High-Tea-BD.jpg
ORGANIZER;CN="Voorzet":MAILTO:stichting@voorzet.nl
END:VEVENT
BEGIN:VEVENT
DTSTART;TZID=Europe/Amsterdam:20251217T200000
DTEND;TZID=Europe/Amsterdam:20251217T223000
DTSTAMP:20260421T120126
CREATED:20250604T072140Z
LAST-MODIFIED:20250604T072140Z
UID:10001005-1766001600-1766010600@www.voorzet.nl
SUMMARY:Bowlen Amsterdam
DESCRIPTION:Elke laatste woensdag van de maand Bowlen in Amsterdam bij Knijn. \nKom je voor het eerst vraag dan even waar de mensen van de stichting zijn. \nKnijn Bowling\nScheldeplein 3\n1078 GR Amsterdam \nBowlen is van 20.00 tot 21.00 uur (19.45 uur melden) \nWe doen gezellig een drankje tot 22.30 uur
URL:https://www.voorzet.nl/event/bowlen-amsterdam-4/
LOCATION:Amsterdam Knijn\, Scheldeplein 3\, Amsterdam\, 1078 GR\, Nederland
CATEGORIES:Stichting Vakantie en Vrije Tijd
ATTACH;FMTTYPE=image/jpeg:https://www.voorzet.nl/wp-content/uploads/Bowling-Knijn-1.jpg
ORGANIZER;CN="Voorzet":MAILTO:stichting@voorzet.nl
END:VEVENT
BEGIN:VEVENT
DTSTART;TZID=Europe/Amsterdam:20251218T200000
DTEND;TZID=Europe/Amsterdam:20251218T223000
DTSTAMP:20260421T120126
CREATED:20250611T095525Z
LAST-MODIFIED:20250611T095525Z
UID:10001017-1766088000-1766097000@www.voorzet.nl
SUMMARY:Bowlen Leiden
DESCRIPTION:Elke maand (2e donderdag\, indien mogelijk\, van die maand) Bowlen in Leiden bij Menken Bowling. \nBowling Menken\nKenauweg 10\n2331 BB Leiden \nBowlen is van 20.00 tot 21.00 uur (19.45 uur melden) \nWe doen gezellig een drankje tot 22.30 uur
URL:https://www.voorzet.nl/event/bowlen-leiden/
LOCATION:Bowling Menken\, Kenauweg 10\, Leiden\, 2331 BB\, Nederland
CATEGORIES:Stichting Vakantie en Vrije Tijd
ATTACH;FMTTYPE=image/jpeg:https://www.voorzet.nl/wp-content/uploads/plaatje-menken.jpg
ORGANIZER;CN="Voorzet":MAILTO:stichting@voorzet.nl
END:VEVENT
BEGIN:VEVENT
DTSTART;TZID=Europe/Amsterdam:20251219T120000
DTEND;TZID=Europe/Amsterdam:20251219T140000
DTSTAMP:20260421T120126
CREATED:20251022T114738Z
LAST-MODIFIED:20251022T114738Z
UID:10001034-1766145600-1766152800@www.voorzet.nl
SUMMARY:Kerst High Tea (lunch) Haarlem bij Brownies & Downies
DESCRIPTION:Voor de Kerst alvast in de sfeer komen een Kerst High Tea\, en wel bij Brownies & Downies. \nhttps://www.browniesanddownies.nl/Haarlem \nB&D heeft voor ons een speciale prijs gemaakt voor de lunch; \nHigh tea is zeker mogelijk\, deze bestaat uit verschillende rondes\, we starten met een soepje en een hartig hapje gevolgd door een hartige ronde\, tussendoor een smoothie en we sluiten af met een zoete ronde en uiteraard onbeperkt thee. De kosten hiervoor zijn 25\,50 p.p. \n\nBrownies&downieS Haarlem\n\nSchagchelstraat 26\n2011 HZ Haarlem
URL:https://www.voorzet.nl/event/kerst-high-tea-lunch-haarlem-bij-brownies-downies-2/
LOCATION:B&D Haarlem\, Schagchelstraat 26\, Haarlem\, 2011 HZ\, Nederland
CATEGORIES:Stichting Vakantie en Vrije Tijd
ATTACH;FMTTYPE=image/jpeg:https://www.voorzet.nl/wp-content/uploads/Kerst-High-Tea-BD.jpg
ORGANIZER;CN="Voorzet":MAILTO:stichting@voorzet.nl
END:VEVENT
BEGIN:VEVENT
DTSTART;TZID=Europe/Amsterdam:20251219T120000
DTEND;TZID=Europe/Amsterdam:20251219T140000
DTSTAMP:20260421T120126
CREATED:20251022T115125Z
LAST-MODIFIED:20251211T083151Z
UID:10001032-1766145600-1766152800@www.voorzet.nl
SUMMARY:Kerst High Tea (lunch) Gouda bij Brownies & Downies
DESCRIPTION:Voor de Kerst alvast in de sfeer komen een Kerst High Tea\, en wel bij Brownies & Downies. \nwww.browniesanddowniesgouda.nl \nB&D heeft voor ons een speciale prijs gemaakt voor de lunch; \nHigh tea is zeker mogelijk\, deze bestaat uit verschillende rondes\, we starten met een soepje en een hartig hapje gevolgd door een hartige ronde\, tussendoor een smoothie en we sluiten af met een zoete ronde en uiteraard onbeperkt thee. De kosten hiervoor zijn 23\,50 p.p. \n\nBrownies&downieS Gouda\nKorte Tiendeweg 15\n2801 JS GOUDA
URL:https://www.voorzet.nl/event/kerst-high-tea-lunch-gouda-bij-brownies-downies/
LOCATION:Brownies and Downies Gouda\, Korte Tiendeweg 15\, Gouda\, 2801 JS
CATEGORIES:Stichting Vakantie en Vrije Tijd
ATTACH;FMTTYPE=image/jpeg:https://www.voorzet.nl/wp-content/uploads/Kerst-High-Tea-BD.jpg
ORGANIZER;CN="Voorzet":MAILTO:stichting@voorzet.nl
END:VEVENT
BEGIN:VEVENT
DTSTART;TZID=Europe/Amsterdam:20260108T183000
DTEND;TZID=Europe/Amsterdam:20260108T210000
DTSTAMP:20260421T120126
CREATED:20251022T120711Z
LAST-MODIFIED:20251231T081759Z
UID:10001037-1767897000-1767906000@www.voorzet.nl
SUMMARY:Nieuwjaars bingo speciaal (online)
DESCRIPTION:De bingo is altijd online via teams en we bedenken altijd leuke prijzen. \nGeef je op door een ticket te kopen en de dag voor de bingo sturen we de kaarten en de inloglink. \n  \nDiverse prijzen gesponsord door BeGlobal.
URL:https://www.voorzet.nl/event/nieuwjaarsbingo-speciaal-online-2/
LOCATION:Teams\, online
CATEGORIES:Stichting Vakantie en Vrije Tijd
ATTACH;FMTTYPE=image/jpeg:https://www.voorzet.nl/wp-content/uploads/20251201-NIeuwjaarsplaatje.jpg
ORGANIZER;CN="Voorzet":MAILTO:stichting@voorzet.nl
END:VEVENT
BEGIN:VEVENT
DTSTART;TZID=Europe/Amsterdam:20260127T183000
DTEND;TZID=Europe/Amsterdam:20260127T203000
DTSTAMP:20260421T120126
CREATED:20251231T083442Z
LAST-MODIFIED:20260119T151441Z
UID:10001041-1769538600-1769545800@www.voorzet.nl
SUMMARY:Online PUB Quiz 2025
DESCRIPTION:We gaan het nieuwe jaar inluiden met een pubquiz 2025\, wie weet het meeste over wat er in 2025 is gebeurd. \n  \nPrijzen komen later 
URL:https://www.voorzet.nl/event/online-pub-quiz-2025/
LOCATION:Teams\, online
CATEGORIES:Stichting Vakantie en Vrije Tijd
ATTACH;FMTTYPE=image/webp:https://www.voorzet.nl/wp-content/uploads/20230110-Pubquiz-plaatje.webp
ORGANIZER;CN="Voorzet":MAILTO:stichting@voorzet.nl
END:VEVENT
BEGIN:VEVENT
DTSTART;TZID=Europe/Amsterdam:20260128T200000
DTEND;TZID=Europe/Amsterdam:20260128T223000
DTSTAMP:20260421T120126
CREATED:20260121T082804Z
LAST-MODIFIED:20260121T093558Z
UID:10001042-1769630400-1769639400@www.voorzet.nl
SUMMARY:Bowlen Amsterdam
DESCRIPTION:Elke laatste woensdag van de maand Bowlen in Amsterdam bij Knijn. \nKom je voor het eerst vraag dan even waar de mensen van de stichting zijn. \nKnijn Bowling\nScheldeplein 3\n1078 GR Amsterdam \nBowlen is van 20.00 tot 21.00 uur (19.45 uur melden) \nWe doen gezellig een drankje tot 22.30 uur
URL:https://www.voorzet.nl/event/bowlen-amsterdam-5/
LOCATION:Amsterdam Knijn\, Scheldeplein 3\, Amsterdam\, 1078 GR\, Nederland
CATEGORIES:Stichting Vakantie en Vrije Tijd
ATTACH;FMTTYPE=image/jpeg:https://www.voorzet.nl/wp-content/uploads/Bowling-Knijn-1.jpg
ORGANIZER;CN="Voorzet":MAILTO:stichting@voorzet.nl
END:VEVENT
BEGIN:VEVENT
DTSTART;TZID=Europe/Amsterdam:20260205T200000
DTEND;TZID=Europe/Amsterdam:20260205T220000
DTSTAMP:20260421T120126
CREATED:20251211T080026Z
LAST-MODIFIED:20251217T090628Z
UID:10001029-1770321600-1770328800@www.voorzet.nl
SUMMARY:Bowlen Schagen
DESCRIPTION:We gaan in een nieuwe regio bowlen “Schagen”. \nOnze bowling staat midden in het bruisende uitgaanscentrum van Schagen . Bij  de bowling combineer je sfeer en gezelligheid met een sportieve uitdaging. Ons enthousiaste team bezorgt je een onvergetelijke tijd. Een bezoekje aan Bowling Schagen is een heuse belevenis.
URL:https://www.voorzet.nl/event/bowlen-schagen/
LOCATION:Bowlen Schagen\, Noord 37\, Schagen\, Noord-Holland\, 1741BB\, Nederland
CATEGORIES:Stichting Vakantie en Vrije Tijd
ATTACH;FMTTYPE=image/png:https://www.voorzet.nl/wp-content/uploads/20251022-Schagen-bowling.png
ORGANIZER;CN="Voorzet":MAILTO:stichting@voorzet.nl
END:VEVENT
BEGIN:VEVENT
DTSTART;TZID=Europe/Amsterdam:20260205T200000
DTEND;TZID=Europe/Amsterdam:20260205T223000
DTSTAMP:20260421T120126
CREATED:20260128T082133Z
LAST-MODIFIED:20260128T082133Z
UID:10001045-1770321600-1770330600@www.voorzet.nl
SUMMARY:Bowlen Haarlem
DESCRIPTION:We bowlen elke eerste donderdag van de maand in Haarlem bij Bison Bowling \nBison Bowling Haarlem\nOrionweg 400\n2024TH Haarlem \nBowlen is van 20.00 tot 21.00 uur\, melden 19.45 uur \nWe doen gezellig een drankje tot 22.30 uur
URL:https://www.voorzet.nl/event/bowlen-haarlem-5/
LOCATION:Bison Bowling\, Orionweg 400\, Haarlem\, 2024TH\, Nederland
CATEGORIES:Stichting Vakantie en Vrije Tijd
ATTACH;FMTTYPE=image/jpeg:https://www.voorzet.nl/wp-content/uploads/Bison-Bowline.jpg
ORGANIZER;CN="Voorzet":MAILTO:stichting@voorzet.nl
END:VEVENT
BEGIN:VEVENT
DTSTART;TZID=Europe/Amsterdam:20260211T183000
DTEND;TZID=Europe/Amsterdam:20260211T203000
DTSTAMP:20260421T120126
CREATED:20260128T082346Z
LAST-MODIFIED:20260204T154456Z
UID:10001046-1770834600-1770841800@www.voorzet.nl
SUMMARY:Online Valentijnsbingo
DESCRIPTION:We gaan weer bingo spelen en wel voor Valentijnsdag. \nDoe ook mee met onze gezellige online bingo. \nPrijzen gaan we nog even over nadenken. \n1 rijtje: Valentijnssnoep\n2 rijtje: Valentijns beker met chocolade\n3 rijtjes: Hartjes Plaid \nVolle kaart: Hartjes Vaas met bloemen
URL:https://www.voorzet.nl/event/online-valentijnsbingo/
LOCATION:Teams\, online
CATEGORIES:Stichting Vakantie en Vrije Tijd
ATTACH;FMTTYPE=image/png:https://www.voorzet.nl/wp-content/uploads/Valentijnsbingo.png
ORGANIZER;CN="Voorzet":MAILTO:stichting@voorzet.nl
END:VEVENT
BEGIN:VEVENT
DTSTART;TZID=Europe/Amsterdam:20260211T200000
DTEND;TZID=Europe/Amsterdam:20260211T223000
DTSTAMP:20260421T120126
CREATED:20260128T081721Z
LAST-MODIFIED:20260128T081721Z
UID:10001044-1770840000-1770849000@www.voorzet.nl
SUMMARY:Bowlen Zaandam
DESCRIPTION:We gaan weer gezellig bowlen. \nBowling Zaandam\nVrieschgroenstraat 3\n1503 MC\, Zaandam \nBowlen is van 20.00 tot 21.00 uur (19.45 melden) \nWe doen gezellig een drankje tot 22.30 uur
URL:https://www.voorzet.nl/event/bowlen-zaandam-4/
LOCATION:Bowling Zaandam\, Vrieschgroenstraat 3\, Zaandam\, 1503 MC\, Nederland
CATEGORIES:Stichting Vakantie en Vrije Tijd
ATTACH;FMTTYPE=image/jpeg:https://www.voorzet.nl/wp-content/uploads/Foto-zaandam-1.jpg
ORGANIZER;CN="Voorzet":MAILTO:stichting@voorzet.nl
END:VEVENT
END:VCALENDAR