BEGIN:VCALENDAR
VERSION:2.0
PRODID:-//Voorzet - ECPv6.15.20//NONSGML v1.0//EN
CALSCALE:GREGORIAN
METHOD:PUBLISH
X-ORIGINAL-URL:https://www.voorzet.nl
X-WR-CALDESC:Evenementen voor Voorzet
REFRESH-INTERVAL;VALUE=DURATION:PT1H
X-Robots-Tag:noindex
X-PUBLISHED-TTL:PT1H
BEGIN:VTIMEZONE
TZID:Europe/Amsterdam
BEGIN:DAYLIGHT
TZOFFSETFROM:+0100
TZOFFSETTO:+0200
TZNAME:CEST
DTSTART:20250330T010000
END:DAYLIGHT
BEGIN:STANDARD
TZOFFSETFROM:+0200
TZOFFSETTO:+0100
TZNAME:CET
DTSTART:20251026T010000
END:STANDARD
BEGIN:DAYLIGHT
TZOFFSETFROM:+0100
TZOFFSETTO:+0200
TZNAME:CEST
DTSTART:20260329T010000
END:DAYLIGHT
BEGIN:STANDARD
TZOFFSETFROM:+0200
TZOFFSETTO:+0100
TZNAME:CET
DTSTART:20261025T010000
END:STANDARD
BEGIN:DAYLIGHT
TZOFFSETFROM:+0100
TZOFFSETTO:+0200
TZNAME:CEST
DTSTART:20270328T010000
END:DAYLIGHT
BEGIN:STANDARD
TZOFFSETFROM:+0200
TZOFFSETTO:+0100
TZNAME:CET
DTSTART:20271031T010000
END:STANDARD
END:VTIMEZONE
BEGIN:VEVENT
DTSTART;TZID=Europe/Amsterdam:20260410T193000
DTEND;TZID=Europe/Amsterdam:20260410T213000
DTSTAMP:20260421T214322
CREATED:20260218T102631Z
LAST-MODIFIED:20260223T075441Z
UID:10001055-1775849400-1775856600@www.voorzet.nl
SUMMARY:Indoor laser game bij Aloha Amsterdam
DESCRIPTION:Indoor laser game bij Aloha\n\n\nIndoor lasergamen bij Aloha gebeurt in een “industrial underground” thema\, welk op deze locatie onder de brug van de Piet Heinkade uiterst goed tot zijn recht komt. Via een mooi tropisch beschilderde gang kom je binnen in de briefing kamer waar de jungle duidelijk het ondergrondse thema overwoekert. \nWat krijg je voor €32\,50 de Special Hit: 2x Laser Tag met 2 drankjes en 3 stuks bittergarnituur.
URL:https://www.voorzet.nl/event/aloha-lasergamen/
LOCATION:Aloha\, De Ruijterkade 151\, Amsterdam\, 1011AC\, Nederland
CATEGORIES:Stichting Vakantie en Vrije Tijd
ATTACH;FMTTYPE=image/png:https://www.voorzet.nl/wp-content/uploads/20260411-Aloha-plaatje.png
ORGANIZER;CN="Voorzet":MAILTO:stichting@voorzet.nl
END:VEVENT
END:VCALENDAR